BEGIN:VCALENDAR
VERSION:2.0
PRODID:-//Chambre de commerce et industrie de Sherbrooke - ECPv6.15.3//NONSGML v1.0//EN
CALSCALE:GREGORIAN
METHOD:PUBLISH
X-ORIGINAL-URL:https://ccisherbrooke.com
X-WR-CALDESC:Évènements pour Chambre de commerce et industrie de Sherbrooke
REFRESH-INTERVAL;VALUE=DURATION:PT1H
X-Robots-Tag:noindex
X-PUBLISHED-TTL:PT1H
BEGIN:VTIMEZONE
TZID:America/New_York
BEGIN:DAYLIGHT
TZOFFSETFROM:-0500
TZOFFSETTO:-0400
TZNAME:EDT
DTSTART:20230312T070000
END:DAYLIGHT
BEGIN:STANDARD
TZOFFSETFROM:-0400
TZOFFSETTO:-0500
TZNAME:EST
DTSTART:20231105T060000
END:STANDARD
BEGIN:DAYLIGHT
TZOFFSETFROM:-0500
TZOFFSETTO:-0400
TZNAME:EDT
DTSTART:20240310T070000
END:DAYLIGHT
BEGIN:STANDARD
TZOFFSETFROM:-0400
TZOFFSETTO:-0500
TZNAME:EST
DTSTART:20241103T060000
END:STANDARD
END:VTIMEZONE
BEGIN:VEVENT
DTSTART;VALUE=DATE:20231025
DTEND;VALUE=DATE:20240413
DTSTAMP:20260421T205650
CREATED:20231025T140339Z
LAST-MODIFIED:20231026T135151Z
UID:10000047-1698192000-1712966399@ccisherbrooke.com
SUMMARY:Formation en mécanique de vélos.
DESCRIPTION:Inscrivez-vous dès maintenant au programme d’études professionnelles en mécanique de vélos qui débute le 28 octobre prochain! Le programme d’études Mécanique de vélos prépare à l’exercice de la profession de mécanicienne ou de mécanicien de vélos. Les mécaniciennes et les mécaniciens de vélos ont pour fonction principale de travail de voir à l’entretien\, à l’évaluation diagnostique\, à la réparation et à l’assemblage de vélos. Ces tâches nécessitent souvent la recherche d’information technique et la commande de pièces compatibles avec les types de vélos pris en charge. La relation fréquente avec la clientèle exige également des habiletés de communication. \n  \nPour en savoir davantage : https://sae-estrie.gouv.qc.ca/formations/aep-mecanique-de-velos/
URL:https://ccisherbrooke.com/events/formation-en-mecanique-de-velos/
LOCATION:QC
CATEGORIES:Formation
ATTACH;FMTTYPE=image/png:https://ccisherbrooke.com/wp-content/uploads/2023/10/SAE_lk_fb_sw_evenement_partn_logo.png
END:VEVENT
END:VCALENDAR