BEGIN:VCALENDAR
VERSION:2.0
PRODID:-//Chambre de commerce et industrie de Sherbrooke - ECPv6.15.3//NONSGML v1.0//EN
CALSCALE:GREGORIAN
METHOD:PUBLISH
X-ORIGINAL-URL:https://ccisherbrooke.com
X-WR-CALDESC:Évènements pour Chambre de commerce et industrie de Sherbrooke
REFRESH-INTERVAL;VALUE=DURATION:PT1H
X-Robots-Tag:noindex
X-PUBLISHED-TTL:PT1H
BEGIN:VTIMEZONE
TZID:America/New_York
BEGIN:DAYLIGHT
TZOFFSETFROM:-0500
TZOFFSETTO:-0400
TZNAME:EDT
DTSTART:20240310T070000
END:DAYLIGHT
BEGIN:STANDARD
TZOFFSETFROM:-0400
TZOFFSETTO:-0500
TZNAME:EST
DTSTART:20241103T060000
END:STANDARD
END:VTIMEZONE
BEGIN:VEVENT
DTSTART;TZID=America/New_York:20241030T130000
DTEND;TZID=America/New_York:20241204T170000
DTSTAMP:20260421T184210
CREATED:20240702T135653Z
LAST-MODIFIED:20240924T184558Z
UID:10000061-1730293200-1733331600@ccisherbrooke.com
SUMMARY:Certification en communication marketing et numérique
DESCRIPTION:La Chambre de commerce et d’industrie de Sherbrooke est fière de s’associer à l’Institut de leadership afin d’offrir la toute nouvelle Certification en communication et marketing numérique. L’objectif premier de cette nouvelle Certification est de vous outiller et de maximiser vos connaissances des communications marketing et des médias sociaux à l’ère du numérique. La Certification se démarque par des formations pratiques et pertinentes offertes par des experts du marché actuel au Québec. Vos nouvelles compétences vous permettront d’améliorer votre compétitivité et d’augmenter votre crédibilité numérique\, tout en favorisant un climat de réseautage et d’échanges avec les autres participants. \n\n\n\nVoici les grandes lignes :\n\nTarif de 485 $* (prix régulier de 2495 $);\n* Le tarif de la formation est de 995$ + taxes. Vous pourriez recevoir une subvention salariale supplémentaire jusqu’à 510$ si vous êtes présent lors des formations\, que vous êtes admissible et que vous soumettez une preuve salariale;\nCette formation s’adresse à toutes les entreprises situées au Québec;\n6 demi-journées de formation en ligne;\nEn bonus: 4 dîners-conférences par des experts qui ont une forte expérience en communication marketing\, les dates 7-13-19 et 27 novembre de midi à 13h.\nDates : Du 30 octobre au 4 décembre 2024\, tous les mercredis PM de 13h à 17h;\nClientèle cible : Toute personne (travailleurs autonomes\, membres de la direction\, gestionnaires\, cadres\, entrepreneurs\, postes à responsabilité) qui désire s’outiller et développer leurs connaissances en communication marketing numérique.\n\n  \nCONFÉRENCIERS
URL:https://ccisherbrooke.com/events/certification-en-communication-marketing-et-numerique/
LOCATION:Virtuel\, Québec\, Canada
CATEGORIES:Formation en ligne
ATTACH;FMTTYPE=image/png:https://ccisherbrooke.com/wp-content/uploads/2024/07/Plus-dinfo-.png
END:VEVENT
END:VCALENDAR