BEGIN:VCALENDAR
VERSION:2.0
PRODID:-//Chambre de commerce et industrie de Sherbrooke - ECPv6.15.3//NONSGML v1.0//EN
CALSCALE:GREGORIAN
METHOD:PUBLISH
X-ORIGINAL-URL:https://ccisherbrooke.com
X-WR-CALDESC:Évènements pour Chambre de commerce et industrie de Sherbrooke
REFRESH-INTERVAL;VALUE=DURATION:PT1H
X-Robots-Tag:noindex
X-PUBLISHED-TTL:PT1H
BEGIN:VTIMEZONE
TZID:America/New_York
BEGIN:DAYLIGHT
TZOFFSETFROM:-0500
TZOFFSETTO:-0400
TZNAME:EDT
DTSTART:20230312T070000
END:DAYLIGHT
BEGIN:STANDARD
TZOFFSETFROM:-0400
TZOFFSETTO:-0500
TZNAME:EST
DTSTART:20231105T060000
END:STANDARD
END:VTIMEZONE
BEGIN:VEVENT
DTSTART;TZID=America/New_York:20230315T080000
DTEND;TZID=America/New_York:20230419T170000
DTSTAMP:20260422T185007
CREATED:20221213T190900Z
LAST-MODIFIED:20230220T200609Z
UID:10000032-1678867200-1681923600@ccisherbrooke.com
SUMMARY:Programme Femmes leaders entièrement en ligne
DESCRIPTION:*Remboursement en subvention salariale supplémentaire jusqu’à 260 $ sur les heures de formation.  Vous devez assister aux heures de formation\, fournir une preuve salariale et être admissible pour avoir droit à la subvention salariale. \nTarif réel de 735$ + taxes si vous êtes éligible à la subvention salariale.  \nLa Chambre de commerce et d’industrie de Sherbrooke offre une cohorte entièrement en ligne du nouveau Programme Femmes Leaders de l’Institut de leadership avec une importante réduction sur le tarif régulier grâce à la participation du gouvernement du Québec par l’entremise du ministère de l’Emploi et de la Solidarité sociale. \nVoici les grandes lignes : \n\nTarif de 995 $  (prix régulier de 2495 $) pouvant aller jusqu’à 735 $ avec la subvention salariale (260$);\nCette formation s’adresse aux femmes des entreprises et organisations situées au Québec;\n6 demi-journées de formation en ligne;\nDates : du 15 mars au 19 avril 2023\, 1/2 journée par semaine (mercredi PM de 13h à 16h30) pour 6 semaines;\nSeulement 30 places disponibles;\nThèmes couverts : comprendre et établir son branding personnel\, mettre en pratique ses compétences naturelles de négociatrice\, exercer son leadership\, saisir les opportunités\, communiquer avec influence et confiance\, le courage émotionnel\, etc;\nClientèle cible : Toutes femmes (travailleures autonomes\, membres de la direction\, gestionnaires\, cadres\, entrepreneures\, postes à responsabilité)  qui désirent s’outiller et s’inspirer dans leur développement de carrière pour se propulser à tous les niveaux et être à la hauteur de leurs propres ambitions personnelles et professionnelles.\nAu moins 7 intervenants différents dont quelques personnalités québécoises*; à noter que les formateurs peuvent être des femmes ou des hommes. Les personnalités de renom seront des femmes.\nVidéo : https://vimeo.com/452879439 .\n\nFaites vite\, seulement 30 places disponibles! \nTrois intervenantes de renom viendront offrir un témoignage/conférence pendant ce programme élite. Le nom de ces intervenantes sera divulgué uniquement lors de la formation.
URL:https://ccisherbrooke.com/events/programme-femmes-leaders-entierement-en-ligne/
LOCATION:Virtuel\, Québec\, Canada
CATEGORIES:Formation en ligne
ATTACH;FMTTYPE=image/jpeg:https://ccisherbrooke.com/wp-content/uploads/2022/12/programmefemmesleaders.jpg
END:VEVENT
END:VCALENDAR